Package: imcdatasets Version: 1.16.0 Command: /home/biocbuild/bbs-3.21-bioc/R/bin/R CMD INSTALL imcdatasets StartedAt: 2025-07-10 11:00:39 -0400 (Thu, 10 Jul 2025) EndedAt: 2025-07-10 11:01:30 -0400 (Thu, 10 Jul 2025) EllapsedTime: 51.1 seconds RetCode: 0 Status: OK