Package: lungExpression Version: 0.46.0 Command: /home/biocbuild/bbs-3.21-bioc/R/bin/R CMD INSTALL lungExpression StartedAt: 2025-10-16 10:56:10 -0400 (Thu, 16 Oct 2025) EndedAt: 2025-10-16 10:56:13 -0400 (Thu, 16 Oct 2025) EllapsedTime: 2.9 seconds RetCode: 0 Status: OK