Package: minfiDataEPIC Version: 1.34.0 Command: /home/biocbuild/bbs-3.21-bioc/R/bin/R CMD build --keep-empty-dirs --no-resave-data minfiDataEPIC StartedAt: 2025-07-15 11:28:31 -0400 (Tue, 15 Jul 2025) EndedAt: 2025-07-15 11:28:42 -0400 (Tue, 15 Jul 2025) EllapsedTime: 11.4 seconds RetCode: 0 Status: OK PackageFile: minfiDataEPIC_1.34.0.tar.gz PackageFileSize: 69.26 MiB