Package: minfiDataEPIC Version: 1.34.0 Command: /home/biocbuild/bbs-3.21-bioc/R/bin/R CMD INSTALL minfiDataEPIC StartedAt: 2025-07-15 11:03:00 -0400 (Tue, 15 Jul 2025) EndedAt: 2025-07-15 11:03:48 -0400 (Tue, 15 Jul 2025) EllapsedTime: 48.5 seconds RetCode: 0 Status: OK