Package: mosaicsExample Version: 1.46.0 Command: /home/biocbuild/bbs-3.21-bioc/R/bin/R CMD build --keep-empty-dirs --no-resave-data mosaicsExample StartedAt: 2025-07-10 11:28:49 -0400 (Thu, 10 Jul 2025) EndedAt: 2025-07-10 11:29:07 -0400 (Thu, 10 Jul 2025) EllapsedTime: 17.6 seconds RetCode: 0 Status: OK PackageFile: mosaicsExample_1.46.0.tar.gz PackageFileSize: 48.06 MiB