Package: nullrangesData Version: 1.14.0 Command: /home/biocbuild/bbs-3.21-bioc/R/bin/R CMD build --keep-empty-dirs --no-resave-data nullrangesData StartedAt: 2025-07-15 11:31:06 -0400 (Tue, 15 Jul 2025) EndedAt: 2025-07-15 11:31:56 -0400 (Tue, 15 Jul 2025) EllapsedTime: 49.8 seconds RetCode: 0 Status: OK PackageFile: nullrangesData_1.14.0.tar.gz PackageFileSize: 4.148 MiB