Package: nullrangesData Version: 1.14.0 Command: /home/biocbuild/bbs-3.21-bioc/R/bin/R CMD INSTALL nullrangesData StartedAt: 2025-07-15 10:58:53 -0400 (Tue, 15 Jul 2025) EndedAt: 2025-07-15 10:59:22 -0400 (Tue, 15 Jul 2025) EllapsedTime: 29.4 seconds RetCode: 0 Status: OK