Package: optimalFlowData Version: 1.20.0 Command: /home/biocbuild/bbs-3.21-bioc/R/bin/R CMD build --keep-empty-dirs --no-resave-data optimalFlowData StartedAt: 2025-07-15 11:32:00 -0400 (Tue, 15 Jul 2025) EndedAt: 2025-07-15 11:32:49 -0400 (Tue, 15 Jul 2025) EllapsedTime: 49.6 seconds RetCode: 0 Status: OK PackageFile: optimalFlowData_1.20.0.tar.gz PackageFileSize: 75.86 MiB