Package: optimalFlowData Version: 1.20.0 Command: /home/biocbuild/bbs-3.21-bioc/R/bin/R CMD INSTALL optimalFlowData StartedAt: 2025-07-15 10:55:36 -0400 (Tue, 15 Jul 2025) EndedAt: 2025-07-15 10:56:07 -0400 (Tue, 15 Jul 2025) EllapsedTime: 30.6 seconds RetCode: 0 Status: OK