Package: preciseTADhub Version: 1.16.0 Command: /home/biocbuild/bbs-3.21-bioc/R/bin/R CMD INSTALL preciseTADhub StartedAt: 2025-07-15 10:57:13 -0400 (Tue, 15 Jul 2025) EndedAt: 2025-07-15 10:57:26 -0400 (Tue, 15 Jul 2025) EllapsedTime: 12.9 seconds RetCode: 0 Status: OK