Package: pumadata Version: 2.44.0 Command: /home/biocbuild/bbs-3.21-bioc/R/bin/R CMD build --keep-empty-dirs --no-resave-data pumadata StartedAt: 2025-07-15 11:33:47 -0400 (Tue, 15 Jul 2025) EndedAt: 2025-07-15 11:34:30 -0400 (Tue, 15 Jul 2025) EllapsedTime: 42.2 seconds RetCode: 0 Status: OK PackageFile: pumadata_2.44.0.tar.gz PackageFileSize: 101.7 MiB