Package: pumadata Version: 2.44.0 Command: /home/biocbuild/bbs-3.21-bioc/R/bin/R CMD INSTALL pumadata StartedAt: 2025-07-15 11:03:46 -0400 (Tue, 15 Jul 2025) EndedAt: 2025-07-15 11:04:15 -0400 (Tue, 15 Jul 2025) EllapsedTime: 28.7 seconds RetCode: 0 Status: OK