Package: sampleClassifierData Version: 1.32.0 Command: /home/biocbuild/bbs-3.21-bioc/R/bin/R CMD INSTALL sampleClassifierData StartedAt: 2025-07-10 10:59:52 -0400 (Thu, 10 Jul 2025) EndedAt: 2025-07-10 11:00:05 -0400 (Thu, 10 Jul 2025) EllapsedTime: 13.2 seconds RetCode: 0 Status: OK