Package: scATAC.Explorer Version: 1.14.1 Command: /home/biocbuild/bbs-3.21-bioc/R/bin/R CMD build --keep-empty-dirs --no-resave-data scATAC.Explorer StartedAt: 2025-10-16 11:38:02 -0400 (Thu, 16 Oct 2025) EndedAt: 2025-10-16 11:38:43 -0400 (Thu, 16 Oct 2025) EllapsedTime: 40.4 seconds RetCode: 0 Status: OK PackageFile: scATAC.Explorer_1.14.1.tar.gz PackageFileSize: 247.8 KiB