Package: scATAC.Explorer Version: 1.14.1 Command: /home/biocbuild/bbs-3.21-bioc/R/bin/R CMD INSTALL scATAC.Explorer StartedAt: 2025-10-16 11:04:08 -0400 (Thu, 16 Oct 2025) EndedAt: 2025-10-16 11:04:34 -0400 (Thu, 16 Oct 2025) EllapsedTime: 25.7 seconds RetCode: 0 Status: OK