Package: scRNAseq Version: 2.22.0 Command: /home/biocbuild/bbs-3.21-bioc/R/bin/R CMD build --keep-empty-dirs --no-resave-data scRNAseq StartedAt: 2025-07-15 11:38:11 -0400 (Tue, 15 Jul 2025) EndedAt: 2025-07-15 11:39:19 -0400 (Tue, 15 Jul 2025) EllapsedTime: 68.7 seconds RetCode: 0 Status: OK PackageFile: scRNAseq_2.22.0.tar.gz PackageFileSize: 304.3 KiB