Package: scRNAseq Version: 2.22.0 Command: /home/biocbuild/bbs-3.21-bioc/R/bin/R CMD INSTALL scRNAseq StartedAt: 2025-07-15 11:02:04 -0400 (Tue, 15 Jul 2025) EndedAt: 2025-07-15 11:02:46 -0400 (Tue, 15 Jul 2025) EllapsedTime: 41.8 seconds RetCode: 0 Status: OK