Package: scanMiRData Version: 1.14.0 Command: /home/biocbuild/bbs-3.21-bioc/R/bin/R CMD build --keep-empty-dirs --no-resave-data scanMiRData StartedAt: 2025-07-15 11:37:34 -0400 (Tue, 15 Jul 2025) EndedAt: 2025-07-15 11:38:01 -0400 (Tue, 15 Jul 2025) EllapsedTime: 27.3 seconds RetCode: 0 Status: OK PackageFile: scanMiRData_1.14.0.tar.gz PackageFileSize: 16.14 MiB