Package: scanMiRData Version: 1.14.0 Command: /home/biocbuild/bbs-3.21-bioc/R/bin/R CMD INSTALL scanMiRData StartedAt: 2025-07-15 10:58:42 -0400 (Tue, 15 Jul 2025) EndedAt: 2025-07-15 10:58:56 -0400 (Tue, 15 Jul 2025) EllapsedTime: 13.9 seconds RetCode: 0 Status: OK