Package: spatialDmelxsim Version: 1.14.0 Command: /home/biocbuild/bbs-3.21-bioc/R/bin/R CMD build --keep-empty-dirs --no-resave-data spatialDmelxsim StartedAt: 2025-07-15 11:39:58 -0400 (Tue, 15 Jul 2025) EndedAt: 2025-07-15 11:40:47 -0400 (Tue, 15 Jul 2025) EllapsedTime: 48.6 seconds RetCode: 0 Status: OK PackageFile: spatialDmelxsim_1.14.0.tar.gz PackageFileSize: 890.7 KiB