Package: spatialDmelxsim Version: 1.14.0 Command: /home/biocbuild/bbs-3.21-bioc/R/bin/R CMD INSTALL spatialDmelxsim StartedAt: 2025-07-15 11:02:24 -0400 (Tue, 15 Jul 2025) EndedAt: 2025-07-15 11:02:49 -0400 (Tue, 15 Jul 2025) EllapsedTime: 25.0 seconds RetCode: 0 Status: OK