Package: spatialLIBD Version: 1.20.1 Maintainer: Leonardo Collado-Torres MaintainerEmail: lcolladotor at gmail.com git_url: https://git.bioconductor.org/packages/spatialLIBD git_branch: RELEASE_3_21 git_last_commit: 0537f4e git_last_commit_date: 2025-04-30 13:13:41 -0400 (Wed, 30 Apr 2025)