Package: spatialLIBD Version: 1.20.1 Command: /home/biocbuild/bbs-3.21-bioc/R/bin/R CMD build --keep-empty-dirs --no-resave-data spatialLIBD StartedAt: 2025-07-10 11:39:56 -0400 (Thu, 10 Jul 2025) EndedAt: 2025-07-10 11:45:16 -0400 (Thu, 10 Jul 2025) EllapsedTime: 320.0 seconds RetCode: 0 Status: OK PackageFile: spatialLIBD_1.20.1.tar.gz PackageFileSize: 19.58 MiB