Package: spatialLIBD Version: 1.20.1 Command: /home/biocbuild/bbs-3.21-bioc/R/bin/R CMD INSTALL spatialLIBD StartedAt: 2025-07-10 11:03:14 -0400 (Thu, 10 Jul 2025) EndedAt: 2025-07-10 11:03:58 -0400 (Thu, 10 Jul 2025) EllapsedTime: 43.9 seconds RetCode: 0 Status: OK