Package: AlphaMissense.v2023.hg38 Version: 3.18.2 Command: /home/biocbuild/bbs-3.22-bioc/R/bin/R CMD INSTALL AlphaMissense.v2023.hg38 StartedAt: 2025-11-19 05:55:20 -0500 (Wed, 19 Nov 2025) EndedAt: 2025-11-19 05:55:37 -0500 (Wed, 19 Nov 2025) EllapsedTime: 16.9 seconds RetCode: 0 Status: OK