Package: CENTREannotation Version: 0.99.1 Command: /home/biocbuild/bbs-3.22-bioc/R/bin/R CMD build --keep-empty-dirs --no-resave-data CENTREannotation StartedAt: 2025-11-19 05:56:27 -0500 (Wed, 19 Nov 2025) EndedAt: 2025-11-19 05:58:16 -0500 (Wed, 19 Nov 2025) EllapsedTime: 108.2 seconds RetCode: 0 Status: OK PackageFile: CENTREannotation_0.99.1.tar.gz PackageFileSize: 221.7 KiB