Package: EpiTxDb.Mm.mm10 Version: 0.99.6 Command: /home/biocbuild/bbs-3.22-bioc/R/bin/R CMD INSTALL EpiTxDb.Mm.mm10 StartedAt: 2025-11-19 05:55:33 -0500 (Wed, 19 Nov 2025) EndedAt: 2025-11-19 05:56:12 -0500 (Wed, 19 Nov 2025) EllapsedTime: 38.1 seconds RetCode: 0 Status: OK