Package: EuPathDB Version: 1.0.1 Command: /home/biocbuild/bbs-3.22-bioc/R/bin/R CMD INSTALL EuPathDB StartedAt: 2025-11-19 05:55:26 -0500 (Wed, 19 Nov 2025) EndedAt: 2025-11-19 05:56:01 -0500 (Wed, 19 Nov 2025) EllapsedTime: 35.3 seconds RetCode: 0 Status: OK