Package: JASPAR2020 Version: 0.99.8 Command: /home/biocbuild/bbs-3.22-bioc/R/bin/R CMD INSTALL JASPAR2020 StartedAt: 2025-11-19 05:55:08 -0500 (Wed, 19 Nov 2025) EndedAt: 2025-11-19 05:55:11 -0500 (Wed, 19 Nov 2025) EllapsedTime: 2.9 seconds RetCode: 0 Status: OK