Package: JASPAR2022 Version: 0.99.8 Command: /home/biocbuild/bbs-3.22-bioc/R/bin/R CMD build --keep-empty-dirs --no-resave-data JASPAR2022 StartedAt: 2025-11-19 05:57:19 -0500 (Wed, 19 Nov 2025) EndedAt: 2025-11-19 05:57:42 -0500 (Wed, 19 Nov 2025) EllapsedTime: 23.1 seconds RetCode: 0 Status: OK PackageFile: JASPAR2022_0.99.8.tar.gz PackageFileSize: 275.8 KiB