Package: JASPAR2024 Version: 0.99.7 Command: /home/biocbuild/bbs-3.22-bioc/R/bin/R CMD INSTALL JASPAR2024 StartedAt: 2025-11-19 05:55:11 -0500 (Wed, 19 Nov 2025) EndedAt: 2025-11-19 05:55:16 -0500 (Wed, 19 Nov 2025) EllapsedTime: 5.4 seconds RetCode: 0 Status: OK