Package: UniProtKeywords Version: 0.99.7 Command: /home/biocbuild/bbs-3.22-bioc/R/bin/R CMD build --keep-empty-dirs --no-resave-data UniProtKeywords StartedAt: 2025-11-19 05:58:03 -0500 (Wed, 19 Nov 2025) EndedAt: 2025-11-19 05:58:07 -0500 (Wed, 19 Nov 2025) EllapsedTime: 4.0 seconds RetCode: 0 Status: OK PackageFile: UniProtKeywords_0.99.7.tar.gz PackageFileSize: 1.209 MiB