Package: alternativeSplicingEvents.hg19 Version: 1.1.0 Command: /home/biocbuild/bbs-3.22-bioc/R/bin/R CMD INSTALL alternativeSplicingEvents.hg19 StartedAt: 2025-11-19 05:55:16 -0500 (Wed, 19 Nov 2025) EndedAt: 2025-11-19 05:55:26 -0500 (Wed, 19 Nov 2025) EllapsedTime: 10.1 seconds RetCode: 0 Status: OK