Package: hpAnnot Version: 1.1.1 Command: /home/biocbuild/bbs-3.22-bioc/R/bin/R CMD build --keep-empty-dirs --no-resave-data hpAnnot StartedAt: 2025-11-19 05:57:07 -0500 (Wed, 19 Nov 2025) EndedAt: 2025-11-19 05:57:46 -0500 (Wed, 19 Nov 2025) EllapsedTime: 38.6 seconds RetCode: 0 Status: OK PackageFile: hpAnnot_1.1.1.tar.gz PackageFileSize: 228.8 MiB