Package: hpAnnot Version: 1.1.1 Command: /home/biocbuild/bbs-3.22-bioc/R/bin/R CMD INSTALL hpAnnot StartedAt: 2025-11-19 05:55:27 -0500 (Wed, 19 Nov 2025) EndedAt: 2025-11-19 05:55:35 -0500 (Wed, 19 Nov 2025) EllapsedTime: 8.7 seconds RetCode: 0 Status: OK