Package: rGenomeTracksData Version: 0.99.0 Command: /home/biocbuild/bbs-3.22-bioc/R/bin/R CMD build --keep-empty-dirs --no-resave-data rGenomeTracksData StartedAt: 2025-11-19 05:57:43 -0500 (Wed, 19 Nov 2025) EndedAt: 2025-11-19 05:58:03 -0500 (Wed, 19 Nov 2025) EllapsedTime: 19.4 seconds RetCode: 0 Status: OK PackageFile: rGenomeTracksData_0.99.0.tar.gz PackageFileSize: 10.06 KiB