Package: rGenomeTracksData Version: 0.99.0 Command: /home/biocbuild/bbs-3.22-bioc/R/bin/R CMD INSTALL rGenomeTracksData StartedAt: 2025-11-19 05:55:24 -0500 (Wed, 19 Nov 2025) EndedAt: 2025-11-19 05:55:33 -0500 (Wed, 19 Nov 2025) EllapsedTime: 8.9 seconds RetCode: 0 Status: OK