Package: synaptome.db Version: 0.99.17 Command: /home/biocbuild/bbs-3.22-bioc/R/bin/R CMD build --keep-empty-dirs --no-resave-data synaptome.db StartedAt: 2025-11-19 05:57:48 -0500 (Wed, 19 Nov 2025) EndedAt: 2025-11-19 05:58:46 -0500 (Wed, 19 Nov 2025) EllapsedTime: 57.9 seconds RetCode: 0 Status: OK PackageFile: synaptome.db_0.99.17.tar.gz PackageFileSize: 312.7 KiB