Package: synaptome.db Version: 0.99.17 Command: /home/biocbuild/bbs-3.22-bioc/R/bin/R CMD INSTALL synaptome.db StartedAt: 2025-11-19 05:55:24 -0500 (Wed, 19 Nov 2025) EndedAt: 2025-11-19 05:56:22 -0500 (Wed, 19 Nov 2025) EllapsedTime: 57.8 seconds RetCode: 0 Status: OK