Welcome to mirrors.dotsrc.org

All our mirrors of open source software are available via http, https, ftp and an onion service. More information about our mirrors including statistics and contact information is available on our mirror info pages.

For information about dotsrc.org and our other services please go to our website.

Index of /bioconductor/checkResults/3.22/data-experiment-LATEST/

File Name  ↓ File Size  ↓ Date  ↓ 
--
-2025-07-10 19:41:23
-2025-07-10 19:41:23
-2025-07-10 19:41:23
-2025-07-10 19:41:23
-2025-07-10 19:41:23
-2025-07-10 19:41:23
-2025-07-10 19:41:23
-2025-07-10 19:41:23
-2025-07-10 19:41:23
-2025-07-10 19:41:23
-2025-07-10 19:41:23
-2025-07-10 19:41:23
-2025-07-10 19:41:23
-2025-07-10 19:41:23
-2025-07-10 19:41:23
-2025-07-10 19:41:23
-2025-07-10 19:41:23
-2025-07-10 19:41:23
-2025-07-10 19:41:23
-2025-07-10 19:41:23
-2025-07-10 19:41:23
-2025-07-10 19:41:23
-2025-07-10 19:41:23
-2025-07-10 19:41:23
-2025-07-10 19:41:23
-2025-07-10 19:41:23
-2025-07-10 19:41:23
-2025-07-10 19:41:23
-2025-07-10 19:41:23
-2025-07-10 19:41:23
-2025-07-10 19:41:23
-2025-07-10 19:41:23
-2025-07-10 19:41:23
-2025-07-10 19:41:23
-2025-07-10 19:41:23
-2025-07-10 19:41:23
-2025-07-10 19:41:23
-2025-07-10 19:41:23
-2025-07-10 19:41:23
-2025-07-10 19:41:23
-2025-07-10 19:41:23
-2025-07-10 19:41:23
-2025-07-10 19:41:23
-2025-07-10 19:41:23
-2025-07-10 19:41:23
-2025-07-10 19:41:23
-2025-07-10 19:41:23
-2025-07-10 19:41:23
-2025-07-10 19:41:23
-2025-07-10 19:41:23
-2025-07-10 19:41:23
-2025-07-10 19:41:23
-2025-07-10 19:41:23
-2025-07-10 19:41:23
-2025-07-10 19:41:23
-2025-07-10 19:41:23
-2025-07-10 19:41:23
-2025-07-10 19:41:23
-2025-07-10 19:41:23
-2025-07-10 19:41:23
-2025-07-10 19:41:23
-2025-07-10 19:41:23
-2025-07-10 19:41:23
-2025-07-10 19:41:23
-2025-07-10 19:41:23
-2025-07-10 19:41:23
-2025-07-10 19:41:23
-2025-07-10 19:41:23
-2025-07-10 19:41:23
-2025-07-10 19:41:23
-2025-07-10 19:41:23
-2025-07-10 19:41:23
-2025-07-10 19:41:23
-2025-07-10 19:41:23
-2025-07-10 19:41:23
-2025-07-10 19:41:23
-2025-07-10 19:41:23
-2025-07-10 19:41:23
-2025-07-10 19:41:23
-2025-07-10 19:41:24
-2025-07-10 19:41:24
-2025-07-10 19:41:24
-2025-07-10 19:41:24
-2025-07-10 19:41:24
-2025-07-10 19:41:23
-2025-07-10 19:41:23
-2025-07-10 19:41:24
-2025-07-10 19:41:24
-2025-07-10 19:41:24
-2025-07-10 19:41:24
-2025-07-10 19:41:24
-2025-07-10 19:41:24
-2025-07-10 19:41:24
-2025-07-10 19:41:24
-2025-07-10 19:41:24
-2025-07-10 19:41:24
-2025-07-10 19:41:24
-2025-07-10 19:41:24
-2025-07-10 19:41:24
-2025-07-10 19:41:24
-2025-07-10 19:41:24
-2025-07-10 19:41:24
-2025-07-10 19:41:24
-2025-07-10 19:41:24
-2025-07-10 19:41:24
-2025-07-10 19:41:24
-2025-07-10 19:41:24
-2025-07-10 19:41:24
-2025-07-10 19:41:24
-2025-07-10 19:41:24
-2025-07-10 19:41:24
-2025-07-10 19:41:24
-2025-07-10 19:41:24
-2025-07-10 19:41:24
-2025-07-10 19:41:24
-2025-07-10 19:41:24
-2025-07-10 19:41:24
-2025-07-10 19:41:24
-2025-07-10 19:41:24
-2025-07-10 19:41:24
-2025-07-10 19:41:24
-2025-07-10 19:41:24
-2025-07-10 19:41:24
-2025-07-10 19:41:24
-2025-07-10 19:41:24
-2025-07-10 19:41:24
-2025-07-10 19:41:24
-2025-07-10 19:41:24
-2025-07-10 19:41:24
-2025-07-10 19:41:24
-2025-07-10 19:41:24
-2025-07-10 19:41:24
-2025-07-10 19:41:24
-2025-07-10 19:41:24
-2025-07-10 19:41:24
-2025-07-10 19:41:24
-2025-07-10 19:41:24
-2025-07-10 19:41:24
-2025-07-10 19:41:24
-2025-07-10 19:41:24
-2025-07-10 19:41:24
-2025-07-10 19:41:24
-2025-07-10 19:41:24
-2025-07-10 19:41:24
-2025-07-10 19:41:24
-2025-07-10 19:41:24
-2025-07-10 19:41:24
-2025-07-10 19:41:24
-2025-07-10 19:41:24
-2025-07-10 19:41:24
-2025-07-10 19:41:24
-2025-07-10 19:41:24
-2025-07-10 19:41:24
-2025-07-10 19:41:24
-2025-07-10 19:41:24
-2025-07-10 19:41:24
-2025-07-10 19:41:24
-2025-07-10 19:41:24
-2025-07-10 19:41:24
-2025-07-10 19:41:24
-2025-07-10 19:41:24
-2025-07-10 19:41:24
-2025-07-10 19:41:24
-2025-07-10 19:41:24
-2025-07-10 19:41:24
-2025-07-10 19:41:24
-2025-07-10 19:41:24
-2025-07-10 19:41:24
-2025-07-10 19:41:24
-2025-07-10 19:41:24
-2025-07-10 19:41:24
-2025-07-10 19:41:24
-2025-07-10 19:41:24
-2025-07-10 19:41:24
-2025-07-10 19:41:24
-2025-07-10 19:41:24
-2025-07-10 19:41:24
-2025-07-10 19:41:24
-2025-07-10 19:41:24
-2025-07-10 19:41:24
-2025-07-10 19:41:24
-2025-07-10 19:41:24
-2025-07-10 19:41:24
-2025-07-10 19:41:24
-2025-07-10 19:41:24
-2025-07-10 19:41:24
-2025-07-10 19:41:24
-2025-07-10 19:41:24
-2025-07-10 19:41:24
-2025-07-10 19:41:24
-2025-07-10 19:41:24
-2025-07-10 19:41:24
-2025-07-10 19:41:24
-2025-07-10 19:41:24
-2025-07-10 19:41:24
-2025-07-10 19:41:24
-2025-07-10 19:41:24
-2025-07-10 19:41:24
-2025-07-10 19:41:24
-2025-07-10 19:41:24
-2025-07-10 19:41:24
-2025-07-10 19:41:24
-2025-07-10 19:41:24
-2025-07-10 19:41:24
-2025-07-10 19:41:24
-2025-07-10 19:41:24
-2025-07-10 19:41:24
-2025-07-10 19:41:24
-2025-07-10 19:41:24
-2025-07-10 19:41:24
-2025-07-10 19:41:24
-2025-07-10 19:41:24
-2025-07-10 19:41:24
-2025-07-10 19:41:24
-2025-07-10 19:41:24
-2025-07-10 19:41:24
-2025-07-10 19:41:24
-2025-07-10 19:41:24
-2025-07-10 19:41:24
-2025-07-10 19:41:24
-2025-07-10 19:41:24
-2025-07-10 19:41:24
-2025-07-10 19:41:24
-2025-07-10 19:41:24
-2025-07-10 19:41:24
-2025-07-10 19:41:24
-2025-07-10 19:41:23
-2025-07-10 19:41:23
-2025-07-10 19:41:23
-2025-07-10 19:41:23
-2025-07-10 19:41:23
-2025-07-10 19:41:23
-2025-07-10 19:41:23
-2025-07-10 19:41:23
-2025-04-08 19:35:03
-2025-07-10 19:41:23
-2025-07-10 19:41:23
-2025-07-10 19:41:23
-2025-07-10 19:41:23
-2025-07-10 19:41:23
-2025-07-10 19:41:23
-2025-07-10 19:41:23
-2025-07-10 19:41:23
-2025-07-10 19:41:23
-2025-07-10 19:41:23
-2025-07-10 19:41:23
-2025-07-10 19:41:23
-2025-07-10 19:41:23
-2025-07-10 19:41:23
-2025-07-10 19:41:23
-2025-07-10 19:41:23
-2025-07-10 19:41:23
-2025-07-10 19:41:23
-2025-07-10 19:41:23
-2025-07-10 19:41:23
-2025-07-10 19:41:23
-2025-07-10 19:41:23
-2025-07-10 19:41:23
-2025-07-10 19:41:23
-2025-07-10 19:41:23
-2025-07-10 19:41:23
-2025-07-10 19:41:23
-2025-07-10 19:41:23
-2025-07-10 19:41:23
-2025-07-10 19:41:23
-2025-07-10 19:41:23
-2025-07-10 19:41:23
-2025-07-10 19:41:23
-2025-07-10 19:41:23
-2025-07-10 19:41:23
-2025-07-10 19:41:23
-2025-07-10 19:41:23
-2025-07-10 19:41:23
-2025-07-10 19:41:23
-2025-07-10 19:41:23
-2025-07-10 19:41:23
-2025-07-10 19:41:23
-2025-07-10 19:41:23
-2025-07-10 19:41:23
-2025-07-10 19:41:23
-2025-07-10 19:41:23
-2025-07-10 19:41:23
-2025-07-10 19:41:23
-2025-07-10 19:41:23
-2025-07-10 19:41:23
-2025-07-10 19:41:23
-2025-07-10 19:41:23
-2025-07-10 19:41:23
-2025-07-10 19:41:23
-2025-07-10 19:41:23
-2025-07-10 19:41:23
-2025-07-10 19:41:23
-2025-07-10 19:41:23
-2025-07-10 19:41:23
-2025-07-10 19:41:23
-2025-07-10 19:41:23
-2025-07-10 19:41:23
-2025-07-10 19:41:23
-2025-07-10 19:41:23
-2025-07-10 19:41:23
-2025-07-10 19:41:23
-2025-07-10 19:41:23
-2025-07-10 19:41:23
-2025-07-10 19:41:23
-2025-07-10 19:41:23
-2025-07-10 19:41:23
-2025-07-10 19:41:23
-2025-07-10 19:41:23
-2025-07-10 19:41:23
-2025-07-10 19:41:23
-2025-07-10 19:41:23
-2025-07-10 19:41:23
-2025-07-10 19:41:23
-2025-07-10 19:41:23
-2025-07-10 19:41:23
-2025-07-10 19:41:23
-2025-07-10 19:41:23
-2025-07-10 19:41:23
-2025-07-10 19:41:23
-2025-07-10 19:41:23
-2025-07-10 19:41:24
-2025-07-10 19:41:24
-2025-07-10 19:41:24
-2025-07-10 19:41:24
-2025-07-10 19:41:24
-2025-07-10 19:41:24
-2025-07-10 19:41:24
-2025-07-10 19:41:24
-2025-07-10 19:41:24
-2025-07-10 19:41:24
-2025-07-10 19:41:24
-2025-07-10 19:41:24
-2025-07-10 19:41:24
-2025-07-10 19:41:24
-2025-07-10 19:41:24
-2025-07-10 19:41:24
-2025-07-10 19:41:24
-2025-07-10 19:41:24
-2025-07-10 19:41:24
-2025-07-10 19:41:24
-2025-07-10 19:41:24
-2025-07-10 19:41:24
-2025-07-10 19:41:24
-2025-07-10 19:41:24
-2025-07-10 19:41:24
-2025-07-10 19:41:24
-2025-07-10 19:41:24
-2025-07-10 19:41:24
-2025-07-10 19:41:24
-2025-07-10 19:41:24
-2025-07-10 19:41:24
-2025-07-10 19:41:24
-2025-07-10 19:41:24
-2025-07-10 19:41:24
-2025-07-10 19:41:24
-2025-07-10 19:41:24
-2025-07-10 19:41:24
-2025-07-10 19:41:24
-2025-07-10 19:41:24
-2025-07-10 19:41:24
-2025-07-10 19:41:24
-2025-07-10 19:41:24
-2025-07-10 19:41:24
-2025-07-10 19:41:24
-2025-07-10 19:41:24
-2025-07-10 19:41:24
-2025-07-10 19:41:24
-2025-07-10 19:41:24
-2025-07-10 19:41:24
-2025-07-10 19:41:24
-2025-07-10 19:41:24
-2025-04-08 19:35:04
-2025-07-10 19:41:24
-2025-07-10 19:41:24
-2025-07-10 19:41:24
-2025-07-10 19:41:24
-2025-07-10 19:41:24
-2025-07-10 19:41:24
-2025-07-10 19:41:24
-2025-07-10 19:41:24
-2025-07-10 19:41:24
-2025-07-10 19:41:24
-2025-07-10 19:41:24
-2025-07-10 19:41:24
-2025-07-10 19:41:24
-2025-07-10 19:41:24
-2025-07-10 19:41:24
-2025-07-10 19:41:24
-2025-07-10 19:41:24
-2025-07-10 19:41:24
-2025-07-10 19:41:24
-2025-07-10 19:41:24
-2025-07-10 19:41:24
-2025-07-10 19:41:24
-2025-07-10 19:41:24
-2025-07-10 19:41:24
-2025-07-10 19:41:24
-2025-07-10 19:41:24
-2025-07-10 19:41:24
-2025-07-10 19:41:24
-2025-07-10 19:41:24
-2025-07-10 19:41:24
-2025-07-10 19:41:24
-2025-07-10 19:41:24
-2025-07-10 19:41:24
-2025-07-10 19:41:24
-2025-07-10 19:41:24
-2025-07-10 19:41:24
-2025-07-10 19:41:24
-2025-07-10 19:41:24
-2025-07-10 19:41:24
-2025-07-10 19:41:24
-2025-04-08 19:35:04
-2025-07-10 19:41:24
-2025-07-10 19:41:24
-2025-07-10 19:41:24
-2025-07-10 19:41:24
-2025-07-10 19:41:24
-2025-07-10 19:41:24
-2025-07-10 19:41:24
-2025-07-10 19:41:24
-2025-07-10 19:41:24
-2025-07-10 19:41:24
-2025-07-10 19:41:24
-2025-07-10 19:41:24
-2025-07-10 19:41:24
-2025-07-10 19:41:24
-2025-07-10 19:41:24
-2025-07-10 19:41:24
-2025-07-10 19:41:24
-2025-07-10 19:41:24
-2025-07-10 19:41:24
7.1 KiB2025-07-10 19:41:23
7.1 KiB2025-07-10 19:41:23
7.0 KiB2025-07-10 19:41:23
46.9 KiB2025-07-10 19:41:23
2.6 KiB2025-07-10 19:41:23
31.3 KiB2025-07-10 19:41:23
3.3 KiB2025-07-10 19:41:23
595.2 KiB2025-07-10 19:41:24
46.1 KiB2025-07-10 19:41:23
7.0 KiB2025-07-10 19:41:23
523.9 KiB2025-07-10 19:41:23
11.2 KiB2025-07-10 19:41:23
6.0 KiB2025-07-10 19:41:23
1.1 MiB2025-07-10 19:41:26
0 B2025-07-10 19:41:23