Package: ALL Version: 1.51.0 Command: /home/biocbuild/bbs-3.22-bioc/R/bin/R CMD INSTALL ALL StartedAt: 2025-07-15 10:56:13 -0400 (Tue, 15 Jul 2025) EndedAt: 2025-07-15 10:56:17 -0400 (Tue, 15 Jul 2025) EllapsedTime: 4.1 seconds RetCode: 0 Status: OK