Package: ASICSdata Version: 1.29.0 Command: /home/biocbuild/bbs-3.22-bioc/R/bin/R CMD build --keep-empty-dirs --no-resave-data ASICSdata StartedAt: 2025-07-15 11:07:21 -0400 (Tue, 15 Jul 2025) EndedAt: 2025-07-15 11:07:37 -0400 (Tue, 15 Jul 2025) EllapsedTime: 16.0 seconds RetCode: 0 Status: OK PackageFile: ASICSdata_1.29.0.tar.gz PackageFileSize: 22.05 MiB