Package: Affyhgu133A2Expr Version: 1.46.0 Command: /home/biocbuild/bbs-3.22-bioc/R/bin/R CMD INSTALL Affyhgu133A2Expr StartedAt: 2025-11-20 10:55:15 -0500 (Thu, 20 Nov 2025) EndedAt: 2025-11-20 10:55:16 -0500 (Thu, 20 Nov 2025) EllapsedTime: 1.2 seconds RetCode: 0 Status: OK