Package: Affyhgu133Plus2Expr Version: 1.43.0 Command: /home/biocbuild/bbs-3.22-bioc/R/bin/R CMD build --keep-empty-dirs --no-resave-data Affyhgu133Plus2Expr StartedAt: 2025-07-17 11:07:13 -0400 (Thu, 17 Jul 2025) EndedAt: 2025-07-17 11:07:27 -0400 (Thu, 17 Jul 2025) EllapsedTime: 14.7 seconds RetCode: 0 Status: OK PackageFile: Affyhgu133Plus2Expr_1.43.0.tar.gz PackageFileSize: 224.4 MiB