Package: Affyhgu133Plus2Expr Version: 1.43.0 Command: /home/biocbuild/bbs-3.22-bioc/R/bin/R CMD INSTALL Affyhgu133Plus2Expr StartedAt: 2025-07-17 10:55:40 -0400 (Thu, 17 Jul 2025) EndedAt: 2025-07-17 10:55:53 -0400 (Thu, 17 Jul 2025) EllapsedTime: 12.4 seconds RetCode: 0 Status: OK