Package: Affyhgu133aExpr Version: 1.48.0 Command: /home/biocbuild/bbs-3.22-bioc/R/bin/R CMD build --keep-empty-dirs --no-resave-data Affyhgu133aExpr StartedAt: 2025-11-20 11:08:50 -0500 (Thu, 20 Nov 2025) EndedAt: 2025-11-20 11:09:13 -0500 (Thu, 20 Nov 2025) EllapsedTime: 22.9 seconds RetCode: 0 Status: OK PackageFile: Affyhgu133aExpr_1.48.0.tar.gz PackageFileSize: 316.1 MiB