Package: AffymetrixDataTestFiles Version: 0.47.0 Command: /home/biocbuild/bbs-3.22-bioc/R/bin/R CMD build --keep-empty-dirs --no-resave-data AffymetrixDataTestFiles StartedAt: 2025-07-10 11:08:04 -0400 (Thu, 10 Jul 2025) EndedAt: 2025-07-10 11:09:09 -0400 (Thu, 10 Jul 2025) EllapsedTime: 65.2 seconds RetCode: 0 Status: OK PackageFile: AffymetrixDataTestFiles_0.47.0.tar.gz PackageFileSize: 38.84 MiB