Package: Affymoe4302Expr Version: 1.47.0 Command: /home/biocbuild/bbs-3.22-bioc/R/bin/R CMD build --keep-empty-dirs --no-resave-data Affymoe4302Expr StartedAt: 2025-07-17 11:07:13 -0400 (Thu, 17 Jul 2025) EndedAt: 2025-07-17 11:07:40 -0400 (Thu, 17 Jul 2025) EllapsedTime: 27.5 seconds RetCode: 0 Status: OK PackageFile: Affymoe4302Expr_1.47.0.tar.gz PackageFileSize: 417.6 MiB