Package: Affymoe4302Expr Version: 1.47.0 Command: /home/biocbuild/bbs-3.22-bioc/R/bin/R CMD INSTALL Affymoe4302Expr StartedAt: 2025-07-17 10:55:17 -0400 (Thu, 17 Jul 2025) EndedAt: 2025-07-17 10:55:19 -0400 (Thu, 17 Jul 2025) EllapsedTime: 2.4 seconds RetCode: 0 Status: OK