Package: AssessORFData Version: 1.27.0 Command: /home/biocbuild/bbs-3.22-bioc/R/bin/R CMD INSTALL AssessORFData StartedAt: 2025-07-15 10:56:35 -0400 (Tue, 15 Jul 2025) EndedAt: 2025-07-15 10:57:19 -0400 (Tue, 15 Jul 2025) EllapsedTime: 43.8 seconds RetCode: 0 Status: OK